Workbook
Name _Hlk85712288: 'קריטריונים טיפוס'!$C$23

Sheet מחוון טיפוס
A1: מס' מציע: ______________________
L3: מינ' | M3: 7
L4: מקס' | M4: 10
A5: סעיף ראשי | B5: סעיף משנה | C5: ההיקף הנדרש | D5: מרכיב ציון | F5: משקל | G5: היקף שהוצג | H5: ציון משוקלל לסעיף | I5: ציון כולל | J5: היקף מינימום | K5: היקף מקסימום | L5: הפרש | M5: =M4-M3 -> 3
A6: ניסיון המציע | B6: ניסיון בביצוע פעילות עם ילדים או בני נוער עד גיל 21 עם מוגבלות
C7: שנות ניסיון בביצוע הפעילות | D7: פחות מ- 3 שנים | E7: פסול | F7: 0.4 | H7: =IF(G7<J7,0,IF(G7=J7,$M$3,IF(G7>K7,$M$4,$M$5/(K7-J7)*(G7-J7)+$M$3))) -> 0 | J7: 3 | K7: 8 | L7: =SUM(F7:F18) -> 1
D8: 3 שנים | E8: =$M$3 -> 7
D9: 4-7 שנים | E9: לכל שנה +0.60
D10: 8 שנים ומעלה | E10: 10
C11: מספר משתתפים בשנה בנושא: טיפוס וגלישה בטבע ומתחם פעילות אתגרי כולל חבלים | D11: פחות מ- 300 משתתפים | E11: פסול | F11: 0.2 | H11: =IF(G11<J11,0,IF(G11=J11,$M$3,IF(G11>K11,$M$4,$M$5/(K11-J11)*(G11-J11)+$M$3))) -> 0 | J11: 300 | K11: 600
D12: 300 משתתפים | E12: =$M$3 -> 7
D13: 301-599 משתתפים | E13: לכל תלמיד +0.01
D14: 600 משתתפים ומעלה | E14: 10
B15: התאמת הניסיון המוצג לנדרש במכרז | C15: ציון 1 - 10 | D15: אי התאמה לנדרש | E15: 0 | F15: 0.4 | H15: =G15 -> 0 | I15: =H15*F15 -> 0
D16: התאמה חלקית בלבד | E16: =$M$3 -> 7
D17: התאמה ברוב הנושאים | E17: 8
D18: התאמה מלאה לנדרש | E18: 10
A19: חוות דעת על המציע | B19: חוות דעת שנלקחה מאנשי הקשר כפי שמפורט בטופס בדיקת ההצעות | C19: ציון 1 - 10 | D19: חוות דעת מס' 1 | H19: =G19*F19 -> 0 | L19: =SUM(F19:F21) -> 0
D20: חוות דעת מס' 2 | H20: =G20*F20 -> 0
D21: חוות דעת מס' 3 | H21: =G21*F21 -> 0
A22: צוות המציע | B22: מנהל התוכנית | C22: שנות ניסיון בעבודה עם מוסדות חינוך | D22: פחות מ- 3 שנים | E22: 0 | F22: 0.35 | H22: =IF(G22<J22,0,IF(G22=J22,$M$3,IF(G22>K22,$M$4,$M$5/(K22-J22)*(G22-J22)+$M$3))) -> 0 | J22: 3 | K22: 6 | L22: =SUM(F22:F36) -> 0.9999
D23: 3 שנים | E23: =$M$3 -> 7
D24: 4-5 שנים | E24: לכל שנה +1.00
D25: 6 שנים ומעלה | E25: 10
C26: ניסיון בעבודה עם אוכלוסייה - אנשים עם מוגבלות | D26: פחות מ- 1 שנים | E26: 0 | F26: 0.35 | H26: =IF(G26<J26,0,IF(G26=J26,$M$3,IF(G26>K26,$M$4,$M$5/(K26-J26)*(G26-J26)+$M$3))) -> 0 | J26: 1 | K26: 3
D27: 1 שנים | E27: =$M$3 -> 7
D28: 2 שנים | E28: לכל שנה +1.50
D29: 3 שנים ומעלה | E29: 10
C30: הכשרה בחינוך ו/או בחינוך גופני ו/או בחינוך לא פורמלי ו/או בחינוך מיוחד ו/או במדעי החברה | D30: פחות מתואר ראשון | E30: 0 | F30: 0.2 | H30: =G30 -> 0 | I30: =H30*F30 -> 0
D31: תואר ראשון | E31: 8
D32: תואר שני | E32: 9
D33: הכשרה רלוונטית נוספת | E33: +1
B34: חוות דעת על מנהל התוכנית עפ"י חוות דעת שנלקחה מאנשי הקשר כפי שמפורט בטופס בדיקת ההצעות | C34: ציון 1 - 10 | D34: חוות דעת מס' 1 | F34: 0.0333 | H34: =G34*F34 -> 0
D35: חוות דעת מס' 2 | F35: 0.0333 | H35: =G35*F35 -> 0
D36: חוות דעת מס' 3 | F36: 0.0333 | H36: =G36*F36 -> 0
B37: רכז בטיחות | C37: שנות ניסיון כיועץ או כבקר בטיחות של מתקני ספורט ונופש או כאחראי בטיחות בגופים ציבוריים | D37: פחות מ- 3 שנים | E37: 0 | F37: 0.6 | H37: =IF(G37<J37,0,IF(G37=J37,$M$3,IF(G37>K37,$M$4,$M$5/(K37-J37)*(G37-J37)+$M$3))) -> 0 | I37: =H37*F37+H41*F41 -> 0 | J37: 3 | K37: 6 | L37: =SUM(F37:F42) -> 1
D38: 3 שנים | E38: =$M$3 -> 7
D39: 4-5 שנים | E39: לכל שנה +1.00
D40: 6 שנים ומעלה | E40: 10
C41: בוגר מוסמך של קורס "ממונה בטיחות בעבודה" מטעם גוף מוכר ע"י המפקח הארצי על העבודה במשרד הכלכלה או בוגר קורס "ממוני בטיחות במוסדות חינוך" מטעם משרד החינוך | D41: אינו בעל הכשרה כנדרש | E41: 0 | F41: 0.4 | H41: =G41 -> 0
D42: בעל הכשרה כנדרש | E42: 10

Sheet מחוון אופניים
A1: מס' מציע: ______________________
L3: מינ' | M3: 7
L4: מקס' | M4: 10
A5: סעיף ראשי | B5: סעיף משנה | C5: ההיקף הנדרש | D5: מרכיב ציון | F5: משקל | G5: היקף שהוצג | H5: ציון משוקלל לסעיף | I5: ציון כולל | J5: היקף מינימום | K5: היקף מקסימום | L5: הפרש | M5: =M4-M3 -> 3
A6: ניסיון המציע | B6: ניסיון בביצוע פעילות עם ילדים או בני נוער עד גיל 21 עם מוגבלות
C7: שנות ניסיון בביצוע הפעילות | D7: פחות מ- 3 שנים | E7: פסול | F7: 0.4 | H7: =IF(G7<J7,0,IF(G7=J7,$M$3,IF(G7>K7,$M$4,$M$5/(K7-J7)*(G7-J7)+$M$3))) -> 0 | J7: 3 | K7: 8 | L7: =SUM(F7:F18) -> 1
D8: 3 שנים | E8: =$M$3 -> 7
D9: 4-7 שנים | E9: לכל שנה +0.60
D10: 8 שנים ומעלה | E10: 10
C11: מספר משתתפים בשנה בנושא: רכיבה על אופניים | D11: פחות מ- 300 משתתפים | E11: פסול | F11: 0.2 | H11: =IF(G11<J11,0,IF(G11=J11,$M$3,IF(G11>K11,$M$4,$M$5/(K11-J11)*(G11-J11)+$M$3))) -> 0 | J11: 300 | K11: 600
D12: 300 משתתפים | E12: =$M$3 -> 7
D13: 301-599 משתתפים | E13: לכל תלמיד +0.01
D14: 600 משתתפים ומעלה | E14: 10
B15: התאמת הניסיון המוצג לנדרש במכרז | C15: ציון 1 - 10 | D15: אי התאמה לנדרש | E15: 0 | F15: 0.4 | H15: =G15 -> 0 | I15: =H15*F15 -> 0
D16: התאמה חלקית בלבד | E16: =$M$3 -> 7
D17: התאמה ברוב הנושאים | E17: 8
D18: התאמה מלאה לנדרש | E18: 10
A19: חוות דעת על המציע | B19: חוות דעת שנלקחה מאנשי הקשר כפי שמפורט בטופס בדיקת ההצעות | C19: ציון 1 - 10 | D19: חוות דעת מס' 1 | H19: =G19*F19 -> 0 | L19: =SUM(F19:F21) -> 0
D20: חוות דעת מס' 2 | H20: =G20*F20 -> 0
D21: חוות דעת מס' 3 | H21: =G21*F21 -> 0
A22: צוות המציע | B22: מנהל התוכנית | C22: שנות ניסיון בעבודה עם מוסדות חינוך | D22: פחות מ- 3 שנים | E22: 0 | F22: 0.35 | H22: =IF(G22<J22,0,IF(G22=J22,$M$3,IF(G22>K22,$M$4,$M$5/(K22-J22)*(G22-J22)+$M$3))) -> 0 | J22: 3 | K22: 6 | L22: =SUM(F22:F36) -> 0.9999
D23: 3 שנים | E23: =$M$3 -> 7
D24: 4-5 שנים | E24: לכל שנה +1.00
D25: 6 שנים ומעלה | E25: 10
C26: ניסיון בעבודה עם אוכלוסייה - אנשים עם מוגבלות | D26: פחות מ- 1 שנים | E26: 0 | F26: 0.35 | H26: =IF(G26<J26,0,IF(G26=J26,$M$3,IF(G26>K26,$M$4,$M$5/(K26-J26)*(G26-J26)+$M$3))) -> 0 | J26: 1 | K26: 3
D27: 1 שנים | E27: =$M$3 -> 7
D28: 2 שנים | E28: לכל שנה +1.50
D29: 3 שנים ומעלה | E29: 10
C30: הכשרה בחינוך ו/או בחינוך גופני ו/או בחינוך לא פורמלי ו/או בחינוך מיוחד ו/או במדעי החברה | D30: פחות מתואר ראשון | E30: 0 | F30: 0.2 | H30: =G30 -> 0 | I30: =H30*F30 -> 0
D31: תואר ראשון | E31: 8
D32: תואר שני | E32: 9
D33: הכשרה רלוונטית נוספת | E33: +1
B34: חוות דעת על מנהל התוכנית עפ"י חוות דעת שנלקחה מאנשי הקשר כפי שמפורט בטופס בדיקת ההצעות | C34: ציון 1 - 10 | D34: חוות דעת מס' 1 | F34: 0.0333 | H34: =G34*F34 -> 0
D35: חוות דעת מס' 2 | F35: 0.0333 | H35: =G35*F35 -> 0
D36: חוות דעת מס' 3 | F36: 0.0333 | H36: =G36*F36 -> 0
B37: רכז בטיחות | C37: שנות ניסיון כיועץ או כבקר בטיחות של מתקני ספורט ונופש או כאחראי בטיחות בגופים ציבוריים | D37: פחות מ- 3 שנים | E37: 0 | F37: 0.6 | H37: =IF(G37<J37,0,IF(G37=J37,$M$3,IF(G37>K37,$M$4,$M$5/(K37-J37)*(G37-J37)+$M$3))) -> 0 | I37: =H37*F37+H41*F41 -> 0 | J37: 3 | K37: 6 | L37: =SUM(F37:F42) -> 1
D38: 3 שנים | E38: =$M$3 -> 7
D39: 4-5 שנים | E39: לכל שנה +1.00
D40: 6 שנים ומעלה | E40: 10
C41: בוגר מוסמך של קורס "ממונה בטיחות בעבודה" מטעם גוף מוכר ע"י המפקח הארצי על העבודה במשרד הכלכלה או בוגר קורס "ממוני בטיחות במוסדות חינוך" מטעם משרד החינוך | D41: אינו בעל הכשרה כנדרש | E41: 0 | F41: 0.4 | H41: =G41 -> 0
D42: בעל הכשרה כנדרש | E42: 10

Sheet מחוון  ODT
A1: מס' מציע: ______________________
A4: סעיף ראשי | B4: סעיף משנה | C4: ההיקף הנדרש | D4: מרכיב ציון | F4: משקל | G4: היקף שהוצג | H4: ציון משוקלל לסעיף | I4: ציון כולל | J4: היקף מינימום | K4: היקף מקסימום | L4: הפרש | M4: =#REF!-#REF! -> #REF!
A5: ניסיון המציע | B5: ניסיון בביצוע פעילות עם ילדים או בני נוער עד גיל 21 עם מוגבלות | C5: שנות ניסיון בביצוע הפעילות | D5: פחות מ- 3 שנים | E5: פסול | F5: 0.4 | H5: =IF(G5<J5,0,IF(G5=J5,#REF!,IF(G5>K5,#REF!,#REF!/(K5-J5)*(G5-J5)+#REF!))) -> 0 | J5: 3 | K5: 8 | L5: =SUM(F5:F16) -> 1
D6: 3 שנים | E6: 7
D7: 4-7 שנים | E7: לכל שנה +0.75
D8: 8 שנים ומעלה | E8: 10
C9: מספר משתתפים בשנה בנושא: פעילות ODT | D9: פחות מ- 300 משתתפים | E9: פסול | F9: 0.3 | H9: =IF(G9<J9,0,IF(G9=J9,#REF!,IF(G9>K9,#REF!,#REF!/(K9-J9)*(G9-J9)+#REF!))) -> 0 | J9: 300 | K9: 600
D10: 300 משתתפים | E10: 7
D11: 301-599 משתתפים | E11: לכל תלמיד +0.01
D12: 600 משתתפים ומעלה | E12: 10
B13: התאמת הניסיון המוצג לנדרש במכרז | C13: ציון 1 - 10 | D13: אי התאמה לנדרש | E13: 0 | F13: 0.3 | H13: =G13 -> 0 | I13: =H13*F13 -> 0
D14: התאמה חלקית בלבד | E14: 4
D15: התאמה ברוב הנושאים | E15: 5
D16: התאמה מלאה לנדרש | E16: 6
A17: התוכניות המוצעות | B17: איכות התוכניות המוצעות | C17: יצירתיות | D17: רמה נמוכה | E17: 1 | F17: 0.25 | L17: =SUM(F17:F28) -> 1
D18: רמה בינונית | E18: 2
D19: רמה גבוהה | E19: 3
C20: התאמה לצרכי האוכלוסייה הרלבנטית | D20: רמה נמוכה | E20: 1 | F20: 0.25
D21: רמה בינונית | E21: 2
D22: רמה גבוהה | E22: 3
C23: התאמת התוכניות לתנאים פיסיים מגוונים | D23: רמה נמוכה | E23: 1 | F23: 0.25
D24: רמה בינונית | E24: 2
D25: רמה גבוהה | E25: 3
C26: התרשמות כללית | D26: רמה נמוכה | E26: 1 | F26: 0.25
D27: רמה בינונית | E27: 2
D28: רמה גבוהה | E28: 3
A29: חוות דעת על המציע | B29: חוות דעת שנלקחה מאנשי הקשר כפי שמפורט בטופס בדיקת ההצעות | C29: ציון 1 - 10 | D29: חוות דעת מס' 1 | F29: 0.33333 | H29: =G29*F29 -> 0 | L29: =SUM(F29:F31) -> 0.99999
D30: חוות דעת מס' 2 | F30: 0.33333 | H30: =G30*F30 -> 0
D31: חוות דעת מס' 3 | F31: 0.33333 | H31: =G31*F31 -> 0
A32: צוות המציע | B32: מנהל התוכנית | C32: שנות ניסיון בעבודה עם מוסדות חינוך | D32: פחות מ- 3 שנים | E32: 0 | F32: 0.4 | H32: =IF(G32<J32,0,IF(G32=J32,#REF!,IF(G32>K32,#REF!,#REF!/(K32-J32)*(G32-J32)+#REF!))) -> 0 | J32: 3 | K32: 6 | L32: =SUM(F32:F46) -> 0.9999999
D33: 3 שנים | E33: 7
D34: 4-5 שנים | E34: לכל שנה +1.00
D35: 6 שנים ומעלה | E35: 10
C36: ניסיון בעבודה עם אוכלוסייה - אנשים עם מוגבלות | D36: פחות מ- 1 שנים | E36: 0 | F36: 0.3 | H36: =IF(G36<J36,0,IF(G36=J36,#REF!,IF(G36>K36,#REF!,#REF!/(K36-J36)*(G36-J36)+#REF!))) -> 0 | J36: 1 | K36: 3
D37: 1 שנים | E37: 7
D38: 2-3 שנים | E38: לכל שנה +1.00
D39: 4 שנים ומעלה | E39: 9
C40: הכשרה בחינוך ו/או בחינוך גופני ו/או בחינוך לא פורמלי ו/או בחינוך מיוחד ו/או במדעי החברה | D40: פחות מתואר ראשון | E40: 0 | F40: 0.2 | H40: =G40 -> 0 | I40: =H40*F40 -> 0
D41: תואר ראשון | E41: 6
D42: תואר שני | E42: 7
D43: הכשרה רלוונטית נוספת | E43: +1
B44: חוות דעת על מנהל התוכנית עפ"י חוות דעת שנלקחה מאנשי הקשר כפי שמפורט בטופס בדיקת ההצעות | C44: ציון 1 - 10 | D44: חוות דעת מס' 1 | F44: 0.0333333 | H44: =G44*F44 -> 0
D45: חוות דעת מס' 2 | F45: 0.0333333 | H45: =G45*F45 -> 0
D46: חוות דעת מס' 3 | F46: 0.0333333 | H46: =G46*F46 -> 0
B47: רכז בטיחות | C47: שנות ניסיון כיועץ או כבקר בטיחות של מתקני ספורט ונופש או כאחראי בטיחות בגופים ציבוריים | D47: פחות מ- 3 שנים | E47: 0 | F47: 0.6 | H47: =IF(G47<J47,0,IF(G47=J47,#REF!,IF(G47>K47,#REF!,#REF!/(K47-J47)*(G47-J47)+#REF!))) -> 0 | I47: =H47*F47+H51*F51 -> 0 | J47: 3 | K47: 6 | L47: =SUM(F47:F52) -> 1
D48: 3 שנים | E48: 4
D49: 4-5 שנים | E49: לכל שנה +0.50
D50: 6 שנים ומעלה | E50: 6
C51: בוגר מוסמך של קורס "ממונה בטיחות בעבודה" מטעם גוף מוכר ע"י המפקח הארצי על העבודה במשרד הכלכלה או בוגר קורס "ממוני בטיחות במוסדות חינוך" מטעם משרד החינוך | D51: אינו בעל הכשרה כנדרש | E51: 0 | F51: 0.4 | H51: =G51 -> 0
D52: בעל הכשרה כנדרש | E52: 5

Sheet קריטריונים טיפוס
A1: המשרד | B1: משרד החינוך | C1: מכרז מס': | D1: ביצוע תוכנית חוויתית תהליכית לתלמידים עם מוגבלות הזכאים לשירותי חינוך המיוחדים הלומדים במסגרות חינוך מיוחד בנושא 1: טיפוס וגלישה בטבע ומתחם פעילות אתגרי כולל חבלים | I1: דף: | J1: 1 | K1: קוד מכרז: | M1: =CELL("filename") -> C:\Users\shirm\Desktop\גיבוי 150322\משרד החינוך\תוכניות חוויתיות לחינוך המיוחד\[מחוון 2022 מתוקן.xlsx]קריטריונים טיפוס
A2: היחידה | B2: אגף א' לחינוך מיוחד | C2: ='קריטריונים אופניים'!C2 -> 49/10.2022 | I2: מתוך: | J2: 2 | K2: תאריך עדכון:
A3: פרוט הנושא | C3: יחידת ספירה | D3: משקל | E3: הצעה: | F3: 1 | G3: הצעה: | H3: 2 | I3: הצעה: | J3: 3 | K3: הצעה: | L3: 4 | M3: הערות
D4: יחסי | E4: ערך | F4: ציון | G4: ערך | H4: ציון | I4: ערך | J4: ציון | K4: ערך | L4: ציון
A5: נסיון המציע | B5: ניסיון בביצוע פעילות עם ילדים או בני נוער עד גיל 21 עם מוגבלות | C5: עפ"י היקפים מינימליים נדרשים | D5: 0.6 | M5: עפ"י המחוון
B6: התאמה של נסיון המציע לפעילות הנדרשת במכרז | C6: ציון 1-10 | D6: 0.4 | M6: עפ"י המחוון
B7: ציון משוקלל לנושא | D7: =SUM(D5:D6) -> 1
A8: חוות דעת | B8: חוות דעת | C8: ציון 1-10 | D8: 1 | M8: עפ"י המחוון
B9: ציון משוקלל לנושא | D9: =SUM(D8) -> 1
A10: מנהל התוכנית | B10: ניסיון של מנהל התוכנית | C10: ציון 1-10 | D10: 0.7 | M10: עפ"י המחוון
B11: הכשרה של מנהל התוכנית | C11: ציון 1-10 | D11: 0.2 | M11: עפ"י המחוון
B12: חוות דעת על מנהל התוכנית | C12: ציון 1-10 | D12: 0.1 | M12: עפ"י המחוון
B13: ציון משוקלל לנושא | D13: =SUM(D10:D12) -> 1
A14: רכז בטיחות | B14: ניסיון רכז בטיחות | C14: ציון 1-10 | D14: 0.6 | M14: עפ"י המחוון
B15: הכשרת רכז בטיחות | C15: ציון 1-10 | D15: 0.4 | M15: עפ"י המחוון
B16: ציון משוקלל לנושא | D16: =SUM(D14:D15) -> 1
A17: הצעת המחיר | B17: פרוט הנושא | C17: יחידת חישוב | D17: כמות | E17: הצעה: | F17: 1 | G17: הצעה: | H17: 2 | I17: הצעה: | J17: 3 | K17: הצעה: | L17: 4 | M17: הערות
E18: ערך | F18: ציון | G18: ערך | H18: ציון | I18: ערך | J18: ציון | K18: ערך | L18: ציון
B19: קבוצה אחת שביצעה פעילות בנושא: טיפוס וגלישה בטבע או מתחם פעילות אתגרי כולל חבלים | C19: קבוצה | D19: 1700
B20: סה"כ הצעת המחיר ללא מע"מ
B21: סה"כ הצעת המחיר כולל מע"מ
C23: ביצוע תוכנית חוויתית תהליכית לתלמידים עם מוגבלות הזכאים לשירותי חינוך מיוחדים הלומדים במסגרות חינוך מיוחד

Sheet קריטריונים אופניים
A1: המשרד | B1: משרד החינוך | C1: מכרז מס': | D1: ביצוע תוכנית חוויתית תהליכית לתלמידים עם מוגבלות הזכאים לשירותי חינוך המיוחדים הלומדים במסגרות חינוך מיוחד בנושא 2: רכיבה על אופניים | I1: דף: | J1: 1 | K1: קוד מכרז: | M1: =CELL("filename") -> C:\Users\shirm\Desktop\גיבוי 150322\משרד החינוך\תוכניות חוויתיות לחינוך המיוחד\[מחוון 2022 מתוקן.xlsx]קריטריונים טיפוס
A2: היחידה | B2: אגף א' לחינוך מיוחד | C2: ='סיכום הצעות טיפוס'!C2 -> 49/10.2022 | I2: מתוך: | J2: 2 | K2: תאריך עדכון:
A3: פרוט הנושא | C3: יחידת ספירה | D3: משקל | E3: הצעה: | F3: 1 | G3: הצעה: | H3: 2 | I3: הצעה: | J3: 3 | K3: הצעה: | L3: 4 | M3: הערות
D4: יחסי | E4: ערך | F4: ציון | G4: ערך | H4: ציון | I4: ערך | J4: ציון | K4: ערך | L4: ציון
A5: נסיון המציע | B5: ניסיון בביצוע פעילות עם ילדים או בני נוער עד גיל 21 עם מוגבלות | C5: עפ"י היקפים מינימליים נדרשים | D5: 0.6 | M5: עפ"י המחוון
B6: התאמה של נסיון המציע לפעילות הנדרשת במכרז | C6: ציון 1-10 | D6: 0.4 | M6: עפ"י המחוון
B7: ציון משוקלל לנושא | D7: =SUM(D5:D6) -> 1
A8: חוות דעת | B8: חוות דעת | C8: ציון 1-10 | D8: 1 | M8: עפ"י המחוון
B9: ציון משוקלל לנושא | D9: =SUM(D8) -> 1
A10: מנהל התוכנית | B10: ניסיון של מנהל התוכנית | C10: ציון 1-10 | D10: 0.7 | M10: עפ"י המחוון
B11: הכשרה של מנהל התוכנית | C11: ציון 1-10 | D11: 0.2 | M11: עפ"י המחוון
B12: חוות דעת על מנהל התוכנית | C12: ציון 1-10 | D12: 0.1 | M12: עפ"י המחוון
B13: ציון משוקלל לנושא | D13: =SUM(D10:D12) -> 1
A14: רכז בטיחות | B14: ניסיון רכז בטיחות | C14: ציון 1-10 | D14: 0.6 | M14: עפ"י המחוון
B15: הכשרת רכז בטיחות | C15: ציון 1-10 | D15: 0.4 | M15: עפ"י המחוון
B16: ציון משוקלל לנושא | D16: =SUM(D14:D15) -> 1
A17: הצעת המחיר | B17: פרוט הנושא | C17: יחידת חישוב | D17: כמות | E17: הצעה: | F17: 1 | G17: הצעה: | H17: 2 | I17: הצעה: | J17: 3 | K17: הצעה: | L17: 4 | M17: הערות
E18: ערך | F18: ציון | G18: ערך | H18: ציון | I18: ערך | J18: ציון | K18: ערך | L18: ציון
B19: קבוצה אחת שביצעה פעילות בנושא: רכיבה על אופניים | C19: קבוצה | D19: 350
B21: סה"כ הצעת המחיר ללא מע"מ
B22: סה"כ הצעת המחיר כולל מע"מ
C24: ביצוע תוכנית חוויתית תהליכית לתלמידים עם מוגבלות הזכאים לשירותי חינוך מיוחדים הלומדים במסגרות חינוך מיוחד

Sheet קריטריונים ODT
A1: המשרד | B1: משרד החינוך | C1: מכרז מס': | D1: ביצוע תוכניות חוויתיות לתלמידי החינוך המיוחד הלומדים במסגרות חינוכיות בנושא 2: סדנאות ODT | I1: דף: | J1: 1 | K1: קוד מכרז: | M1: =CELL("filename") -> C:\Users\shirm\Desktop\גיבוי 150322\משרד החינוך\תוכניות חוויתיות לחינוך המיוחד\[מחוון 2022 מתוקן.xlsx]קריטריונים טיפוס
A2: היחידה | B2: אגף א' לחינוך מיוחד | C2: ='סיכום הצעות ODT'!C2 -> 49/10.2022 | I2: מתוך: | J2: 2 | K2: תאריך עדכון:
A3: פרוט הנושא | C3: יחידת ספירה | D3: משקל | E3: הצעה: | F3: 1 | G3: הצעה: | H3: 2 | I3: הצעה: | J3: 3 | K3: הצעה: | L3: 4 | M3: הערות
D4: יחסי | E4: ערך | F4: ציון | G4: ערך | H4: ציון | I4: ערך | J4: ציון | K4: ערך | L4: ציון
A5: נסיון המציע | B5: ניסיון בביצוע פעילות עם ילדים או בני נוער עד גיל 21 עם מוגבלות | C5: עפ"י היקפים מינימליים נדרשים | D5: 0.7 | M5: עפ"י המחוון
B6: התאמה של נסיון המציע לפעילות הנדרשת במכרז | C6: ציון 1-10 | D6: 0.3 | M6: עפ"י המחוון
B7: ציון משוקלל לנושא | D7: =SUM(D5:D6) -> 1
A8: איכות התוכניות | B8: איכות התוכניות | C8: לפי קריטריונים | D8: 1
B9: ציון משוקלל לנושא | C9: ציון 1-10 | D9: 1
A10: חוות דעת | B10: חוות דעת | C10: ציון 1-10 | D10: 1 | M10: עפ"י המחוון
B11: ציון משוקלל לנושא | D11: =SUM(D10) -> 1
A12: מנהל התוכנית | B12: ניסיון של מנהל התוכנית | C12: ציון 1-10 | D12: 0.7 | M12: עפ"י המחוון
B13: הכשרה של מנהל התוכנית | C13: ציון 1-10 | D13: 0.2 | M13: עפ"י המחוון
B14: חוות דעת על מנהל התוכנית | C14: ציון 1-10 | D14: 0.1 | M14: עפ"י המחוון
B15: ציון משוקלל לנושא | D15: =SUM(D12:D14) -> 1
A16: רכז בטיחות | B16: ניסיון רכז בטיחות | C16: ציון 1-10 | D16: 0.6 | M16: עפ"י המחוון
B17: הכשרת רכז בטיחות | C17: ציון 1-10 | D17: 0.4 | M17: עפ"י המחוון
B18: ציון משוקלל לנושא | D18: =SUM(D16:D17) -> 1
A19: הצעת המחיר | B19: פרוט הנושא | C19: יחידת חישוב | D19: כמות | E19: הצעה: | F19: 1 | G19: הצעה: | H19: 2 | I19: הצעה: | J19: 3 | K19: הצעה: | L19: 4 | M19: הערות
E20: ערך | F20: ציון | G20: ערך | H20: ציון | I20: ערך | J20: ציון | K20: ערך | L20: ציון
B21: קבוצה אחת שביצעה פעילות בנושא: ODT | C21: קבוצה | D21: 350
B24: סה"כ הצעת המחיר ללא מע"מ
B25: סה"כ הצעת המחיר כולל מע"מ

Sheet סיכום הצעות טיפוס
A1: משרד החינוך | C1: מכרז מס': | D1: ביצוע תוכניות חוויתיות לתלמידי החינוך המיוחד הלומדים במסגרות חינוכיות בנושא 1: טיפוס וגלישה בטבע ומתחם פעילות אתגרי כולל חבלים | I1: דף: | J1: 2 | K1: קוד מכרז: | L1: =CELL("filename") -> C:\Users\shirm\Desktop\גיבוי 150322\משרד החינוך\תוכניות חוויתיות לחינוך המיוחד\[מחוון 2022 מתוקן.xlsx]קריטריונים טיפוס
A2: אגף א' לחינוך מיוחד | C2: ='סיכום הצעות ODT'!C2 -> 49/10.2022 | I2: מתוך: | J2: 2 | K2: תאריך עדכון:
D3: סה"כ משקל סעיפי איכות: | H3: =+C23 -> 0.6 | I3: משקל מחיר: | J3: =+C24 -> 0.4 | K3: הערכה כוללת
A4: מספר | B4: שם המציע | C4: הקריטריון | D4: נסיון הגוף המציע | E4: חוות דעת | F4: מנהל התוכנית | G4: רכז בטיחות | H4: ציון סעיפי האיכות | I4: מחיר משוקלל | J4: ציון המחיר | K4: ציון סופי משוקלל | L4: דירוג יחסי
C7: משקל יחסי => | D7: 0.4 | E7: 0.15 | F7: 0.25 | G7: 0.2 | H7: =SUM(D7:G7) -> 1 | I7: 1 | J7: 1
A8: 1 | C8: ציון מוחלט =>
C9: ציון יחסי =>>
A10: 2 | C10: ציון מוחלט =>
C11: ציון יחסי =>>
A12: 3 | C12: ציון מוחלט =>
C13: ציון יחסי =>>
A14: 4 | C14: ציון מוחלט =>
C15: ציון יחסי =>>
A16: 5 | C16: ציון מוחלט =>
C17: ציון יחסי =>>
A18: 6 | C18: ציון מוחלט =>
C19: ציון יחסי =>>
I20: =MIN(I8,I10,I12,I14,I16,I18) -> 0
B23: משקל סעיפי האיכות | C23: 0.6
B24: משקל מחיר | C24: 0.4
B25: סה"כ | C25: =SUM(C23:C24) -> 1
B27: ציון מעבר מציון כולל של סעיפי האיכות לציון המחיר | C27: 0.8
B29: ציון מינימום נדרש בכל אחד מסעיפי האיכות בפני עצמו הינו | F29: 0.7

Sheet סיכום הצעות אופניים
A1: משרד החינוך | C1: מכרז מס': | D1: ביצוע תוכניות חוויתיות לתלמידי החינוך המיוחד הלומדים במסגרות חינוכיות בנושא 2: רכיבה על אופניים | I1: דף: | J1: 2 | K1: קוד מכרז: | L1: =CELL("filename") -> C:\Users\shirm\Desktop\גיבוי 150322\משרד החינוך\תוכניות חוויתיות לחינוך המיוחד\[מחוון 2022 מתוקן.xlsx]קריטריונים טיפוס
A2: אגף א' לחינוך מיוחד | C2: ='סיכום הצעות ODT'!C2 -> 49/10.2022 | I2: מתוך: | J2: 2 | K2: תאריך עדכון:
D3: סה"כ משקל סעיפי איכות: | H3: =+C23 -> 0.6 | I3: משקל מחיר: | J3: =+C24 -> 0.4 | K3: הערכה כוללת
A4: מספר | B4: שם המציע | C4: הקריטריון | D4: נסיון הגוף המציע | E4: חוות דעת | F4: מנהל התוכנית | G4: רכז בטיחות | H4: ציון סעיפי האיכות | I4: מחיר משוקלל | J4: ציון המחיר | K4: ציון סופי משוקלל | L4: דירוג יחסי
C7: משקל יחסי => | D7: 0.4 | E7: 0.15 | F7: 0.25 | G7: 0.2 | H7: =SUM(D7:G7) -> 1 | I7: 1 | J7: 1
A8: 1 | C8: ציון מוחלט =>
C9: ציון יחסי =>>
A10: 2 | C10: ציון מוחלט =>
C11: ציון יחסי =>>
A12: 3 | C12: ציון מוחלט =>
C13: ציון יחסי =>>
A14: 4 | C14: ציון מוחלט =>
C15: ציון יחסי =>>
A16: 5 | C16: ציון מוחלט =>
C17: ציון יחסי =>>
A18: 6 | C18: ציון מוחלט =>
C19: ציון יחסי =>>
I20: =MIN(I8,I10,I12,I14,I16,I18) -> 0
B23: משקל סעיפי האיכות | C23: 0.6
B24: משקל מחיר | C24: 0.4
B25: סה"כ | C25: =SUM(C23:C24) -> 1
B27: ציון מעבר מציון כולל של סעיפי האיכות לציון המחיר | C27: 0.8
B29: ציון מינימום נדרש בכל אחד מסעיפי האיכות בפני עצמו הינו | F29: 0.7

Sheet סיכום הצעות ODT
A1: משרד החינוך | C1: מכרז מס': | D1: ביצוע תוכניות חוויתיות לתלמידי החינוך המיוחד הלומדים במסגרות חינוכיות בנושא 3: ODT | J1: דף: | K1: 2 | L1: קוד מכרז: | M1: =CELL("filename") -> C:\Users\shirm\Desktop\גיבוי 150322\משרד החינוך\תוכניות חוויתיות לחינוך המיוחד\[מחוון 2022 מתוקן.xlsx]קריטריונים טיפוס
A2: אגף א' לחינוך מיוחד | C2: 49/10.2022 | J2: מתוך: | K2: 2 | L2: תאריך עדכון:
D3: סה"כ משקל סעיפי איכות: | I3: =+C23 -> 0.6 | J3: משקל מחיר: | K3: =+C24 -> 0.4 | L3: הערכה כוללת
A4: מספר | B4: שם המציע | C4: הקריטריון | D4: נסיון הגוף המציע | E4: איכות התוכניות המוצעות | F4: חוות דעת | G4: מנהל התוכנית | H4: רכז בטיחות | I4: ציון סעיפי האיכות | J4: מחיר משוקלל | K4: ציון המחיר | L4: ציון סופי משוקלל | M4: דירוג יחסי
C7: משקל יחסי => | D7: 0.35 | E7: 0.1 | F7: 0.1 | G7: 0.25 | H7: 0.2 | I7: =SUM(D7:H7) -> 1 | J7: 1 | K7: 1
A8: 1 | C8: ציון מוחלט =>
C9: ציון יחסי =>>
A10: 2 | C10: ציון מוחלט =>
C11: ציון יחסי =>>
A12: 3 | C12: ציון מוחלט =>
C13: ציון יחסי =>>
A14: 4 | C14: ציון מוחלט =>
C15: ציון יחסי =>>
A16: 5 | C16: ציון מוחלט =>
C17: ציון יחסי =>>
A18: 6 | C18: ציון מוחלט =>
C19: ציון יחסי =>>
J20: =MIN(J8,J10,J12,J14,J16,J18) -> 0
B23: משקל סעיפי האיכות | C23: 0.6
B24: משקל מחיר | C24: 0.4
B25: סה"כ | C25: =SUM(C23:C24) -> 1
B27: ציון מעבר מציון כולל של סעיפי האיכות לציון המחיר | C27: 0.8
B29: ציון מינימום נדרש בכל אחד מסעיפי האיכות בפני עצמו הינו | G29: 0.7
